BEGIN:VCALENDAR
VERSION:2.0
PRODID:-//Folies Françoises - ECPv6.15.20//NONSGML v1.0//EN
CALSCALE:GREGORIAN
METHOD:PUBLISH
X-ORIGINAL-URL:https://foliesfrancoises.fr
X-WR-CALDESC:Évènements pour Folies Françoises
REFRESH-INTERVAL;VALUE=DURATION:PT1H
X-Robots-Tag:noindex
X-PUBLISHED-TTL:PT1H
BEGIN:VTIMEZONE
TZID:Europe/Paris
BEGIN:DAYLIGHT
TZOFFSETFROM:+0100
TZOFFSETTO:+0200
TZNAME:CEST
DTSTART:20220327T010000
END:DAYLIGHT
BEGIN:STANDARD
TZOFFSETFROM:+0200
TZOFFSETTO:+0100
TZNAME:CET
DTSTART:20221030T010000
END:STANDARD
BEGIN:DAYLIGHT
TZOFFSETFROM:+0100
TZOFFSETTO:+0200
TZNAME:CEST
DTSTART:20230326T010000
END:DAYLIGHT
BEGIN:STANDARD
TZOFFSETFROM:+0200
TZOFFSETTO:+0100
TZNAME:CET
DTSTART:20231029T010000
END:STANDARD
BEGIN:DAYLIGHT
TZOFFSETFROM:+0100
TZOFFSETTO:+0200
TZNAME:CEST
DTSTART:20240331T010000
END:DAYLIGHT
BEGIN:STANDARD
TZOFFSETFROM:+0200
TZOFFSETTO:+0100
TZNAME:CET
DTSTART:20241027T010000
END:STANDARD
END:VTIMEZONE
BEGIN:VEVENT
DTSTART;TZID=Europe/Paris:20230718T203000
DTEND;TZID=Europe/Paris:20230718T203000
DTSTAMP:20260422T141329
CREATED:20221220T111249Z
LAST-MODIFIED:20240130T103815Z
UID:10000180-1689712200-1689712200@foliesfrancoises.fr
SUMMARY:Echos Vénitiens
DESCRIPTION:Les Folies françoises s’associent à l’ensemble renaissance Musicque de Joye pour explorer la brillante musique des maîtres de Chapelle de Saint-Marc de Venise\, Giovanni Gabrielli et Claudio Monteverdi. \nEchos Vénitiens est un programme en double choeur inspiré de l’architecture de la basilique où deux tribunes se font face. Il offre aux cuivres et cordes l’occasion de dialoguer en écho. \nA la confluence de la tradition de la Renaissance tardive et de la modernité naissante du baroque primitif\, cette musique polychorale et concertante\, exprime avec vitalité et virtuosité\, l’effervescence du Seicento vénitien. \n  \nConcert organisé avec le soutien de la SPEDIDAM \n 
URL:https://foliesfrancoises.fr/evenement/echos-venitiens-4/
LOCATION:Collégiale Saint Jacques de Sallanches\, 84 Quai Saint-Jacques\, Sallanches\, 74700\, France
CATEGORIES:Concerts,Echos Vénitiens
ATTACH;FMTTYPE=image/jpeg:https://foliesfrancoises.fr/wp-content/uploads/2022/06/PCA-Tendances-SNO-par-Jean-Dubrana-15-1-scaled-e1670845264144.jpg
ORGANIZER;CN="Festival baroque du pays du Mont-Blanc":MAILTO:info@festivalmontblanc.fr
END:VEVENT
BEGIN:VEVENT
DTSTART;TZID=Europe/Paris:20231126T160000
DTEND;TZID=Europe/Paris:20231126T160000
DTSTAMP:20260422T141329
CREATED:20221220T103910Z
LAST-MODIFIED:20240131T140015Z
UID:10000175-1701014400-1701014400@foliesfrancoises.fr
SUMMARY:Echos Vénitiens
DESCRIPTION:Les Folies françoises s’associent à l’ensemble renaissance Musicque de Joye pour explorer la brillante musique des maîtres de Chapelle de Saint-Marc de Venise\, Giovanni Gabrielli et Claudio Monteverdi. \nEchos Vénitiens est un programme en double choeur inspiré de l’architecture de la basilique où deux tribunes se font face. Il offre aux cuivres et cordes l’occasion de dialoguer en écho. \nA la confluence de la tradition de la Renaissance tardive et de la modernité naissante du baroque primitif\, cette musique polychorale et concertante\, exprime avec vitalité et virtuosité\, l’effervescence du Seicento vénitien. \n\n \n  \n\n  \nEspace Beaumont de ChémeryRue Clotaire Paumier \nTarifs10 €5 € pour les moins de 18 ans \nInformations et réservation07 78 82 03 16 – ecoledemusique@val2c.fr \n\n 
URL:https://foliesfrancoises.fr/evenement/echos-venitiens-3/
LOCATION:Le Controis-en-sologne\, 16 Rue de la Libération\,\, Le Controis-en-Sologne\, 41700
CATEGORIES:Concerts,Echos Vénitiens
ATTACH;FMTTYPE=image/jpeg:https://foliesfrancoises.fr/wp-content/uploads/2022/06/PCA-Tendances-SNO-par-Jean-Dubrana-15-1-scaled-e1670845264144.jpg
END:VEVENT
END:VCALENDAR